BEGIN:VCALENDAR
VERSION:2.0
PRODID:-//wp-events-plugin.com//7.2.3.1//EN
BEGIN:VEVENT
UID:1@smartfinancialnetwork.com
DTSTART;VALUE=DATE:20250214
DTEND;VALUE=DATE:20250308
DTSTAMP:20250104T133939Z
URL:https://smartfinancialnetwork.com/events/test/
SUMMARY:test
DESCRIPTION:Here’s an Americas Market Summary for the week ending Dec 20t
 h : GDP (US$bn) GDP QoQ (%) Base Rate (%) Inflation Rate (%) Unemployment 
 (%) Debt/GDP (%) Credit Rating (Moody’s/S&P/Fitch) United States 27\,361
  3.1 4.75 2.7 4.2 122.3 Aaa/AA+/AA+ Brazil 2\,174 0.9 12.25 4.87 6.2 84.7 
 Ba2/BB/BB Canada 2\,140 0.3 3.25 1.9 6.8 107.5 Aaa/AAA/AA+ Mexico 1\,789 1
 .1 10.0 4.55 2.5 49.7
ATTACH;FMTTYPE=image/jpeg:https://smartfinancialnetwork.com/wp-content/upl
 oads/2024/10/istockphoto-842214470-612x612-1.jpg
END:VEVENT
BEGIN:VEVENT
UID:3@smartfinancialnetwork.com
DTSTART;TZID=America/New_York:20260529T083000
DTEND;TZID=America/New_York:20260529T170000
DTSTAMP:20260422T162309Z
URL:https://smartfinancialnetwork.com/events/access-to-finance-conference/
SUMMARY:ACCESS TO FINANCE CONFERENCE
DESCRIPTION:SMART FINANCIAL NETWORK (SFN) AND HOFSTRA UNIVERSITY PRESENT A 
 COMPREHENSIVE DAY DEDICATED TO SCALING YOUR BUSINESS. THIS EVENT GOES BEYO
 ND TRADITIONAL BANKING\, PROVIDING SMALL AND MEDIUM ENTERPRISES WITH THE E
 LITE TOOLS AND CONNECTIONS NEEDED FOR FINANCIAL GROWTH.\n\n
END:VEVENT
BEGIN:VTIMEZONE
TZID:America/New_York
X-LIC-LOCATION:America/New_York
BEGIN:DAYLIGHT
DTSTART:20260308T030000
TZOFFSETFROM:-0500
TZOFFSETTO:-0400
TZNAME:EDT
END:DAYLIGHT
END:VTIMEZONE
END:VCALENDAR